BEGIN:VCALENDAR
VERSION:2.0
PRODID:-//Launchpad - ECPv6.15.12.2//NONSGML v1.0//EN
CALSCALE:GREGORIAN
METHOD:PUBLISH
X-WR-CALNAME:Launchpad
X-ORIGINAL-URL:https://launchpadsouthyorkshire.co.uk
X-WR-CALDESC:Events for Launchpad
REFRESH-INTERVAL;VALUE=DURATION:PT1H
X-Robots-Tag:noindex
X-PUBLISHED-TTL:PT1H
BEGIN:VTIMEZONE
TZID:Europe/London
BEGIN:DAYLIGHT
TZOFFSETFROM:+0000
TZOFFSETTO:+0100
TZNAME:BST
DTSTART:20250330T010000
END:DAYLIGHT
BEGIN:STANDARD
TZOFFSETFROM:+0100
TZOFFSETTO:+0000
TZNAME:GMT
DTSTART:20251026T010000
END:STANDARD
BEGIN:DAYLIGHT
TZOFFSETFROM:+0000
TZOFFSETTO:+0100
TZNAME:BST
DTSTART:20260329T010000
END:DAYLIGHT
BEGIN:STANDARD
TZOFFSETFROM:+0100
TZOFFSETTO:+0000
TZNAME:GMT
DTSTART:20261025T010000
END:STANDARD
BEGIN:DAYLIGHT
TZOFFSETFROM:+0000
TZOFFSETTO:+0100
TZNAME:BST
DTSTART:20270328T010000
END:DAYLIGHT
BEGIN:STANDARD
TZOFFSETFROM:+0100
TZOFFSETTO:+0000
TZNAME:GMT
DTSTART:20271031T010000
END:STANDARD
END:VTIMEZONE
BEGIN:VEVENT
DTSTART;TZID=Europe/London:20260422T093000
DTEND;TZID=Europe/London:20260424T123000
DTSTAMP:20260422T014229
CREATED:20260326T111155Z
LAST-MODIFIED:20260326T111155Z
UID:10379-1776850200-1777033800@launchpadsouthyorkshire.co.uk
SUMMARY:Business Start Up Workshop - Online - Doncaster
DESCRIPTION:Description\nUnlock your entrepreneurial potential with our comprehensive Business Start-Up Course!  Are you ready to turn your innovative ideas into a successful venture?  Whether your goal is to establish a side hustle for supplementary income or to evolve your passion into a fully-fledged business\, our course is designed to provide you with the knowledge and skills needed to launch and grow a thriving business. \nOur skilled facilitator will guide you through the entire process – from developing your idea\, crafting a solid business plan\, marketing\, to all the other things you need to consider when running a business.  Don’t miss this opportunity to jumpstart your entrepreneurial journey. \nAbout The Trainer:\nMark Smith is CEO of Make Your Mark UK which helps businesses and charities to be better by offering training\, coaching and consultancy.  Mark has many years of experience working with entrepreneurs and business start-ups\, sharing his experience and expertise and asking critical questions to help new business owners to think commercially and to become confidence in their industry. \nThis workshop will cover: \nMindset to succeed\nIdentifying your products or services\nBusiness Planning\nYour ideal customers and target audience\nWays of generating business\nMarketing\nOvercoming objections\nRisks and insurance\nFinance options\, bookkeeping\, tax and national insurance\nCritical thinking\nAnd more!! \nWhat’s In It For Me?\nThis interactive course is designed to build your confidence\, knowledge and skills to help you work on your own business\, whether you are starting from scratch or have been trading for a couple of years and want to improve how you are running and approaching your business. \nWhat others have said about this course:\n“This course has been excellent and very informative”\n“I enjoyed the training very much.  Mark was very knowledgeable.  He put the course over very professionally and was not one bit boring!”\,\n“This has been a very useful three days\, great teaching and opportunity to share.  Thank you\, it has consolidated my prior learning and filled the gaps”. \nClick to book here: Business Start Up Workshop
URL:https://launchpadsouthyorkshire.co.uk/event/business-start-up-workshop-online-doncaster-7/
END:VEVENT
BEGIN:VEVENT
DTSTART;TZID=Europe/London:20260422T100000
DTEND;TZID=Europe/London:20260422T110000
DTSTAMP:20260422T014229
CREATED:20260420T102025Z
LAST-MODIFIED:20260420T102025Z
UID:10425-1776852000-1776855600@launchpadsouthyorkshire.co.uk
SUMMARY:Power Hour: How to create a Business Model Canvas - Electric Works - Sheffield
DESCRIPTION:Got a business idea? Use the Business Model Canvas to map your value\, customers\, and revenue in one clear page. \nBusiness Sheffield is launching a new series of Business Start-up Power Hour workshops. \nThese free\, in-person sessions are designed to give aspiring entrepreneurs the practical tools and confidence to start their business. You’ll have the chance to ask questions\, learn from experienced advisors\, and explore the key steps involved in turning an idea into a successful venture. \nYou can attend one workshop or join the full series\, depending on what support you need. \nIn this session\, we will explore the Business Model Canvas\, a simple one-page tool that helps you map out your business idea. You’ll learn how to define your value proposition\, understand your customers\, and identify the key elements that make a business work. \nBy the end of the session\, you’ll have a clearer picture of how your business can create\, deliver and capture value. \nto book follow this link : How to create a business model canvas
URL:https://launchpadsouthyorkshire.co.uk/event/power-hour-how-to-create-a-business-model-canvas-electric-works-sheffield/
END:VEVENT
END:VCALENDAR